BEGIN:VCALENDAR
VERSION:2.0
PRODID:-//NMJ Canada - ECPv6.15.20//NONSGML v1.0//EN
CALSCALE:GREGORIAN
METHOD:PUBLISH
X-ORIGINAL-URL:https://nmjcanada.com
X-WR-CALDESC:Events for NMJ Canada
REFRESH-INTERVAL;VALUE=DURATION:PT1H
X-Robots-Tag:noindex
X-PUBLISHED-TTL:PT1H
BEGIN:VTIMEZONE
TZID:America/Toronto
BEGIN:DAYLIGHT
TZOFFSETFROM:-0500
TZOFFSETTO:-0400
TZNAME:EDT
DTSTART:20210314T070000
END:DAYLIGHT
BEGIN:STANDARD
TZOFFSETFROM:-0400
TZOFFSETTO:-0500
TZNAME:EST
DTSTART:20211107T060000
END:STANDARD
BEGIN:DAYLIGHT
TZOFFSETFROM:-0500
TZOFFSETTO:-0400
TZNAME:EDT
DTSTART:20220313T070000
END:DAYLIGHT
BEGIN:STANDARD
TZOFFSETFROM:-0400
TZOFFSETTO:-0500
TZNAME:EST
DTSTART:20221106T060000
END:STANDARD
BEGIN:DAYLIGHT
TZOFFSETFROM:-0500
TZOFFSETTO:-0400
TZNAME:EDT
DTSTART:20230312T070000
END:DAYLIGHT
BEGIN:STANDARD
TZOFFSETFROM:-0400
TZOFFSETTO:-0500
TZNAME:EST
DTSTART:20231105T060000
END:STANDARD
END:VTIMEZONE
BEGIN:VEVENT
DTSTART;TZID=America/Toronto:20220702T120000
DTEND;TZID=America/Toronto:20220702T170000
DTSTAMP:20260424T111342
CREATED:20220630T111249Z
LAST-MODIFIED:20220630T111249Z
UID:391-1656763200-1656781200@nmjcanada.com
SUMMARY:Summer BBQ
DESCRIPTION:Summer barbeque with traditional games taught by Seniors for youth.
URL:https://nmjcanada.com/event/summer-bbq/
LOCATION:Panel with menu style 4
ATTACH;FMTTYPE=image/jpeg:https://nmjcanada.com/wp-content/uploads/2022/06/WhatsApp-Image-2022-06-29-at-10.54.28-PM.jpeg
END:VEVENT
END:VCALENDAR